BEGIN:VCALENDAR
VERSION:2.0
METHOD:PUBLISH
PRODID:SimpleCalendar
BEGIN:VEVENT
UID:@simplecalendar-Freiwillige Feuerwehr Stuttgart - Abt. Hofen
CATEGORIES:Einsatzabteilung
CLASS:PUBLIC
DTSTAMP:20260422T110924Z
CREATED:20260422T110924Z
SUMMARY:Teilnahme an Gedenkfeier
DESCRIPTION:Teilnahme an Gedenkfeier Magazin /
LOCATION:Magazin
LAST-MODIFIED:20251231T000000Z
GEO:70378 Stuttgart
URL:https://feuerwehr-hofen.de/abteilung/dienstplan/9-einsatzabteilung/1437-teilnahme-an-gedenkfeier.html
TRANSP:OPAQUE
DTSTART:20261101T130000Z
DTEND:20261101T150000Z
END:VEVENT
END:VCALENDAR